Workbook
Name Ersatzspalten: 'Especif. precios | opcional '!$I$3:$L$3
Name Ersatzspalten: 'Especif. precios | prestación'!$I$3:$L$3
Name Erstattungsart: #REF!
Name Erstattungsart: Listas!$B$4:$B$7
Name JaNein: #REF!
Name lSFK: #REF!
Name lSFK: #REF!
Name lSFK: 'Lista de expertos(as) clave'!$B$11:$B$34
Name rZeilen: 'Especif. precios | opcional '!$N$13:$N$13
Name rZeilen: 'Especif. precios | prestación'!$N$13:$N$19
Name VENr: 'Especif. precios | opcional '!#REF!
Name VENr: 'Especif. precios | prestación'!#REF!
Name VEspalten: 'Especif. precios | opcional '!#REF!
Name VEspalten: 'Especif. precios | prestación'!#REF!

Sheet Especif. precios | prestación
A1: Especificación de precios: prestación
A2: CONFIDENTIAL
A3: N.º de transacción: | B3: 7000022899 | C3: Fecha:
A5: N.º de proyecto / n.º de unidad de costos: | C5: Contratista:
C7: Dirección:
A9: 1. Precios fijos
A11: Partida | B11: Descripción | D11: Cantidad | E11: Retribución | F11: Total | G11: Explicaciones
A12: Monitoreo de noticias semanal | D12: 12 | F12: =D12*E12 -> 0 | G12: ¡No editar!
A13: Resumen de monitoreo de noticias semanal | D13: 12 | F13: =D13*E13 -> 0 | G13: ¡No editar!
A14: Hito 2 | F14: =D14*E14 -> 0
A15: Hito 3 | F15: =D15*E15 -> 0
A16: Hito 4 | F16: =D16*E16 -> 0
A17: Hito 5 | F17: =D17*E17 -> 0
A18: Hito 6 | F18: =D18*E18 -> 0
A19: Hito 7 | F19: =D19*E19 -> 0
A21: Subtotal | F21: =SUM(F12:F20) -> 0
A23: 2. Costos totales
A25: Suma total (antes de impuestos) | F25: =F21 -> 0
A28: Además deberá consignar también la tarifa diaria utilizada, no es necesario un desglose por días:
A29: Partida | B29: Precio por día
A30: Experta/Experto 1 | B30: 0
A31: Experta/Experto 2 | B31: 0

Sheet Especif. precios | opcional 
A1: Especificación de precios | opcional
A2: CONFIDENTIAL
A3: N.º de contrato: | B3: ='Especif. precios | prestación'!B3 -> 7000022899 | C3: Fecha: | D3: ='Especif. precios | prestación'!D3 -> 0
A5: N.º de proyecto / n.º de unidad de costos: | B5: ='Especif. precios | prestación'!B5 -> 0 | C5: Contratista: | D5: ='Especif. precios | prestación'!D5 -> 0
C7: Dirección: | D7: ='Especif. precios | prestación'!D7 -> 0
A9: 1. Precios fijos
A11: Partida | B11: Descripción | D11: Cantidad | E11: Retribución | F11: Total | G11: Explicaciones
A12: Monitoreo de noticias semanal | D12: 24 | F12: =D12*E12 -> 0
A13: Resumen de monitoreo de noticias semanal | D13: 24 | F13: =D13*E13 -> 0
A15: Subtotal | F15: =SUM(F12:F14) -> 0
A17: 2. Costos totales
A19: Suma total (antes de impuestos) | F19: =F15 -> 0
A23: Además deberá consignar también la tarifa diaria utilizada, no es necesario un desglose por días:
A24: Partida | B24: Precio por día
A25: Experta/Experto 1 | B25: 0
A26: Experta/Experto 2 | B26: 0

Sheet Suma prestación + opcional
A1: Especificación de precios: suma de prestación + prestación opcional
A2: CONFIDENTIAL
A3: N.º de contrato: | B3: ='Especif. precios | prestación'!B3 -> 7000022899 | C3: Fecha: | D3: ='Especif. precios | prestación'!D3 -> 0
A5: N.º de proyecto: | B5: ='Especif. precios | prestación'!B5 -> 0 | C5: Contratista: | D5: ='Especif. precios | prestación'!D5 -> 0
C7: Dirección: | D7: ='Especif. precios | prestación'!D7 -> 0
A9: 1. Precios fijos
A11: Subtotal | E11: ='Especif. precios | prestación'!F21+'Especif. precios | opcional '!F15 -> 0
A13: 2. Costos totales
A15: Suma total (antes de impuetos) | E15: ='Especif. precios | prestación'!F25+'Especif. precios | opcional '!F19 -> 0

Sheet Lista de expertos(as) clave
B2: Lista de expertos y expertas clave
B3: * Solo expertos y expertas para quienes es necesario un complemento al contrato
B4: ** Si cambia el experto o la experta clave, introduzca en las explicaciones la fecha de finalización de la asignación y el inicio de la asignación del nuevo experto o de la nueva experta clave.
B5: CONFIDENTIAL
B6: N.° de contrato: | C6: ='Especif. precios | prestación'!B3 -> 7000022899 | E6: Fecha: | F6: ='Especif. precios | prestación'!D3 -> 0
B8: N.° de proyecto: | C8: ='Especif. precios | prestación'!B5 -> 0
B10: Denominación en la especificación de precios | C10: Apellido(s) | D10: Nombre | E10: Fecha de nacimiento | F10: Lugar de residencia | G10: Explicación de los complementos al contrato
B11: Jefe/a de equipo
B12: Experto/a clave 1
B13: Experto/a clave 2
B14: Experto/a clave 3
B15: Experto/a clave 4
B16: Experto/a clave 5
B17: Experto/a clave 6
B18: Contingente expertos/as 1
B19: Contingente expertos/as 2
B20: Contingente expertos/as 3
B21: Contingente expertos/as 4
B22: Contingente expertos/as 5
B23: Contingente expertos/as 6

Sheet Listas
B3: Tipo de reembolso
B4: Seleccione
B5: Monto global / cantidad
B6: Contra justificante
B7: No procede
