Workbook
Name Ersatzspalten: 'Especif. precios | prestación'!$I$3:$L$3
Name Erstattungsart: #REF!
Name lSFK: 'Lista de expertos(as) clave'!$B$11:$B$34
Name rZeilen: 'Especif. precios | prestación'!$N$13:$N$23
Name VENr: 'Especif. precios | prestación'!#REF!
Name VEspalten: 'Especif. precios | prestación'!#REF!

Sheet Especif. precios | prestación
A1: Especificación de precios: prestación
A2: CONFIDENTIAL
A3: N.º de transacción: | B3: 10055472 | C3: Fecha:
A5: N.º de proyecto / n.º de unidad de costos: | C5: Contratista:
C7: Dirección:
A9: 1. Precios fijos
A11: Partida | B11: Descripción | D11: Cantidad | E11: Retribución | F11: Total | G11: Explicaciones
A12: One pager | B12: Cotizar por pieza | D12: 15 | F12: =D12*E12 -> 0
A13: Infografía | B13: Cotizar por pieza | D13: 40 | F13: =D13*E13 -> 0
A14: Documento diagramado (diseño editorial) | B14: Cotizar por cuartilla | D14: 500 | F14: =D14*E14 -> 0
A15: Documento redactado, revisado o editado | B15: Cotizar por cuartilla | D15: 140 | F15: =D15*E15 -> 0
A16: Video animado (30 segundos) | B16: Cotizar por segundo | D16: 50 | F16: =D16*E16 -> 0
A17: Video animado (1 minuto) | B17: Cotizar por minuto | D17: 10 | F17: =D17*E17 -> 0
A18: Video editado (1 minuto) | B18: Cotizar por minuto | D18: 10 | F18: =D18*E18 -> 0
A19: Documento memoria | B19: Cotizar por documento | D19: 10 | F19: =D19*E19 -> 0
A20: Traducción español-inglés | B20: Cotizar por línea | D20: 150 | F20: =D20*E20 -> 0
A21: Roll up | B21: Cotizar por pieza | D21: 5 | F21: =D21*E21 -> 0
A22: Diseño de producto promocional | B22: Cotizar por pieza | D22: 5 | F22: =D22*E22 -> 0
A23: Material de comunicación actualizado u homologado | B23: Cotizar por material | D23: 10 | F23: =D23*E23 -> 0
A25: Subtotal | F25: =SUM(F12:F24) -> 0
A27: 2. Honorarios y otros costos condicionados por el contrato
A29: 2.1 Partida de honorarios | B29: Nombre | C29: Tipo de reembolso | D29: Cantidad días de experto/a | E29: Retribución | F29: Total | G29: Explicaciones
A30: Jefe/a de equipo | B30: =IFERROR(VLOOKUP(A30,'Lista de expertos(as) clave'!$B$11:$D$34,3,0)&" "&VLOOKUP(A30,'Lista de expertos(as) clave'!$B$11:$D$34,2,0),"N.N.") | C30: Monto global / cantidad | D30: 50 | F30: =D30*E30 -> 0
A31: Experto/a clave 1 | B31: =IFERROR(VLOOKUP(A31,'Lista de expertos(as) clave'!$B$11:$D$34,3,0)&" "&VLOOKUP(A31,'Lista de expertos(as) clave'!$B$11:$D$34,2,0),"N.N.") | C31: Monto global / cantidad | D31: 80 | F31: =D31*E31 -> 0
A32: Experto/a clave 2 | B32: =IFERROR(VLOOKUP(A32,'Lista de expertos(as) clave'!$B$11:$D$34,3,0)&" "&VLOOKUP(A32,'Lista de expertos(as) clave'!$B$11:$D$34,2,0),"N.N.") | C32: Monto global / cantidad | D32: 73 | F32: =D32*E32 -> 0
A33: Experto/a clave 3 | B33: =IFERROR(VLOOKUP(A33,'Lista de expertos(as) clave'!$B$11:$D$34,3,0)&" "&VLOOKUP(A33,'Lista de expertos(as) clave'!$B$11:$D$34,2,0),"N.N.") | C33: Monto global / cantidad | D33: 17 | F33: =D33*E33 -> 0
A34: Experto/a clave 4 | B34: =IFERROR(VLOOKUP(A34,'Lista de expertos(as) clave'!$B$11:$D$34,3,0)&" "&VLOOKUP(A34,'Lista de expertos(as) clave'!$B$11:$D$34,2,0),"N.N.") | C34: Monto global / cantidad | D34: 20 | F34: =D34*E34 -> 0
A36: Subtotal | F36: =SUM(F30:F35) -> 0
A39: 3. Costos totales
A41: Suma total (antes de impuestos) | F41: =F25+F36 -> 0

Sheet Lista de expertos(as) clave
B2: Lista de expertos y expertas clave
B3: * Solo expertos y expertas para quienes es necesario un complemento al contrato
B4: ** Si cambia el experto o la experta clave, introduzca en las explicaciones la fecha de finalización de la asignación y el inicio de la asignación del nuevo experto o de la nueva experta clave.
B5: CONFIDENTIAL
B6: N.° de contrato: | C6: ='Especif. precios | prestación'!B3 -> 10055472 | E6: Fecha: | F6: ='Especif. precios | prestación'!D3 -> 0
B8: N.° de proyecto: | C8: ='Especif. precios | prestación'!B5 -> 0
B10: Denominación en la especificación de precios | C10: Apellido(s) | D10: Nombre | E10: Fecha de nacimiento | F10: Lugar de residencia | G10: Explicación de los complementos al contrato
B11: Jefe/a de equipo
B12: Experto/a clave 1
B13: Experto/a clave 2
B14: Experto/a clave 3
B15: Experto/a clave 4
