Workbook
Name Ersatzspalten: 'Bordereau prix lot 2'!$I$3:$L$3
Name Ersatzspalten: 'Bordereau prix lot 3'!$I$3:$L$3
Name Ersatzspalten: 'Bordereau prix lot 1'!$I$3:$L$3
Name Erstattungsart: Listen!$B$4:$B$7
Name lSFK: 'Liste des expert·e·s clés'!$B$12:$B$35
Name rZeilen: 'Bordereau prix lot 2'!$N$15:$N$21
Name rZeilen: 'Bordereau prix lot 3'!$N$15:$N$21
Name rZeilen: 'Bordereau prix lot 1'!$N$15:$N$21
Name VENr: 'Bordereau prix lot 2'!#REF!
Name VENr: 'Bordereau prix lot 3'!#REF!
Name VENr: 'Bordereau prix lot 1'!#REF!
Name VEspalten: 'Bordereau prix lot 2'!#REF!
Name VEspalten: 'Bordereau prix lot 3'!#REF!
Name VEspalten: 'Bordereau prix lot 1'!#REF!

Sheet Bordereau prix lot 1
A1: Bordereau de prix - prestation
A2: CONFIDENTIAL
C3: Procédure:
C5: Date :
C6: Contractant·e :
C8: Adresse :
A10: 1. Prix fixes
A13: Poste | B13: Description | D13: Quantité | E13: Prix | F13: Total | G13: Explications
A14: Montant total | F14: =D14*E14 -> 0
A15: Jalon 1 | F15: =D15*E15 -> 0
A16: Jalon 2 | F16: =D16*E16 -> 0
A17: Jalon 3 | F17: =D17*E17 -> 0
A18: Jalon 4 | F18: =D18*E18 -> 0
A19: Jalon 5 | F19: =D19*E19 -> 0
A20: Jalon 6 | F20: =D20*E20 -> 0
A21: Jalon 7 | F21: =D21*E21 -> 0
A23: Sous-total | F23: =SUM(F14:F22) -> 0
A25: 2. Honoraires et autres coûts liés au marché
A26: La facturation des positions mentionnées ci-dessous s'effectue sur la base d'un justificatif du temps travaillé.
A28: 2.1 Taux d’honoraires journaliers par poste | B28: Nom | C28: Type de remboursement | D28: Nombre de jours d’expert·e·s | E28: Prix | F28: Total | G28: Explications
A29: Chef·fe d’équipe | B29: =IFERROR(VLOOKUP(A29,'Liste des expert·e·s clés'!$B$12:$D$35,3,0)&" "&VLOOKUP(A29,'Liste des expert·e·s clés'!$B$12:$D$35,2,0),"N.N.") -> N.N. | C29: Forfait / quantité | F29: =D29*E29 -> 0
A30: Expert·e clé 1/chef d'équipe Module 1 | B30: =IFERROR(VLOOKUP(A30,'Liste des expert·e·s clés'!$B$12:$D$35,3,0)&" "&VLOOKUP(A30,'Liste des expert·e·s clés'!$B$12:$D$35,2,0),"N.N.") | C30: Forfait / quantité | D30: 27 | F30: =D30*E30 -> 0 | G30: 5 jrs conception ; 2 jrs préparation; 12 jrs atelier ; 5 jrs conception du dispositif de suivi et 3 jrs rapportage . Total : 27 jrs .
A31: Expert·e clé 2/ chef d'équipe Module 2 | B31: =IFERROR(VLOOKUP(A31,'Liste des expert·e·s clés'!$B$12:$D$35,3,0)&" "&VLOOKUP(A31,'Liste des expert·e·s clés'!$B$12:$D$35,2,0),"N.N.") | C31: Forfait / quantité | D31: 27 | F31: =D31*E31 -> 0 | G31: 5 jrs conception ; 2 jrs préparation; 12 jrs atelier ; 5 jrs conception du dispositif de suivi et 3 jrs rapportage . Total : 27 jrs .
A32: Assistant 1 | B32: =IFERROR(VLOOKUP(A32,'Liste des expert·e·s clés'!$B$12:$D$35,3,0)&" "&VLOOKUP(A32,'Liste des expert·e·s clés'!$B$12:$D$35,2,0),"N.N.") | C32: Forfait / quantité | D32: 15 | F32: =D32*E32 -> 0 | G32: 12 ateliers de formation; 1 jours pour la préparation; 2 jours pour le rapportage. Total= 15 jrs
A33: Assistant 2 | B33: =IFERROR(VLOOKUP(A33,'Liste des expert·e·s clés'!$B$12:$D$35,3,0)&" "&VLOOKUP(A33,'Liste des expert·e·s clés'!$B$12:$D$35,2,0),"N.N.") | C33: Forfait / quantité | D33: 15 | F33: =D33*E33 -> 0 | G33: 12 ateliers de formation; 1 jours pour la préparation; 2 jours pour le rapportage. Total= 15 jrs
A34: Expert·e clé 5 (Lot 5) | B34: =IFERROR(VLOOKUP(A34,'Liste des expert·e·s clés'!$B$12:$D$35,3,0)&" "&VLOOKUP(A34,'Liste des expert·e·s clés'!$B$12:$D$35,2,0),"N.N.") -> N.N. | C34: Forfait / quantité | F34: =D34*E34 -> 0
A35: Pool d’expert·e·s 1 | B35: =IFERROR(VLOOKUP(A35,'Liste des expert·e·s clés'!$B$12:$D$35,3,0)&" "&VLOOKUP(A35,'Liste des expert·e·s clés'!$B$12:$D$35,2,0),"N.N.") -> N.N. | C35: Forfait / quantité | F35: =D35*E35 -> 0
A36: Pool d’expert·e·s 2 | B36: =IFERROR(VLOOKUP(A36,'Liste des expert·e·s clés'!$B$12:$D$35,3,0)&" "&VLOOKUP(A36,'Liste des expert·e·s clés'!$B$12:$D$35,2,0),"N.N.") -> N.N. | C36: Forfait / quantité | F36: =D36*E36 -> 0
A37: Pool d’expert·e·s 3 | B37: =IFERROR(VLOOKUP(A37,'Liste des expert·e·s clés'!$B$12:$D$35,3,0)&" "&VLOOKUP(A37,'Liste des expert·e·s clés'!$B$12:$D$35,2,0),"N.N.") -> N.N. | C37: Forfait / quantité | F37: =D37*E37 -> 0
A38: Pool d’expert·e·s 4 | B38: =IFERROR(VLOOKUP(A38,'Liste des expert·e·s clés'!$B$12:$D$35,3,0)&" "&VLOOKUP(A38,'Liste des expert·e·s clés'!$B$12:$D$35,2,0),"N.N.") -> N.N. | C38: Forfait / quantité | F38: =D38*E38 -> 0
A39: Pool d’expert·e·s 5 | B39: =IFERROR(VLOOKUP(A39,'Liste des expert·e·s clés'!$B$12:$D$35,3,0)&" "&VLOOKUP(A39,'Liste des expert·e·s clés'!$B$12:$D$35,2,0),"N.N.") -> N.N. | C39: Forfait / quantité | F39: =D39*E39 -> 0
A41: Sous-total | F41: =SUM(F29:F40) -> 0
A43: 2.2 Coûts liés au marché par poste | B43: Nom | C43: Clé de facturation | D43: Quantité | E43: Prix | F43: Total | G43: Explications
A44: Expert·e clé 1 | B44: =IFERROR(VLOOKUP(A44,'Liste des expert·e·s clés'!$B$12:$D$35,3,0)&" "&VLOOKUP(A44,'Liste des expert·e·s clés'!$B$12:$D$35,2,0),"N.N.") -> N.N. | C44: Forfait / quantité | F44: =D44*E44 -> 0
A45: Expert·e clé 2 | B45: =IFERROR(VLOOKUP(A45,'Liste des expert·e·s clés'!$B$12:$D$35,3,0)&" "&VLOOKUP(A45,'Liste des expert·e·s clés'!$B$12:$D$35,2,0),"N.N.") -> N.N. | C45: Forfait / quantité | F45: =D45*E45 -> 0
A46: Expert·e clé 3 | B46: =IFERROR(VLOOKUP(A46,'Liste des expert·e·s clés'!$B$12:$D$35,3,0)&" "&VLOOKUP(A46,'Liste des expert·e·s clés'!$B$12:$D$35,2,0),"N.N.") -> N.N. | C46: Forfait / quantité | F46: =D46*E46 -> 0
A47: Expert·e clé 4 | B47: =IFERROR(VLOOKUP(A47,'Liste des expert·e·s clés'!$B$12:$D$35,3,0)&" "&VLOOKUP(A47,'Liste des expert·e·s clés'!$B$12:$D$35,2,0),"N.N.") -> N.N. | C47: Forfait / quantité | F47: =D47*E47 -> 0
A48: Expert·e clé 5 | B48: =IFERROR(VLOOKUP(A48,'Liste des expert·e·s clés'!$B$12:$D$35,3,0)&" "&VLOOKUP(A48,'Liste des expert·e·s clés'!$B$12:$D$35,2,0),"N.N.") -> N.N. | C48: Forfait / quantité | F48: =D48*E48 -> 0
A49: Expert·e clé 6 | B49: =IFERROR(VLOOKUP(A49,'Liste des expert·e·s clés'!$B$12:$D$35,3,0)&" "&VLOOKUP(A49,'Liste des expert·e·s clés'!$B$12:$D$35,2,0),"N.N.") -> N.N. | C49: Forfait / quantité | F49: =D49*E49 -> 0
A50: Pool d’expert·e·s 1 | B50: =IFERROR(VLOOKUP(A50,'Liste des expert·e·s clés'!$B$12:$D$35,3,0)&" "&VLOOKUP(A50,'Liste des expert·e·s clés'!$B$12:$D$35,2,0),"N.N.") -> N.N. | C50: Forfait / quantité | F50: =D50*E50 -> 0
...

Sheet Bordereau prix lot 2
A1: Bordereau de prix - prestation
A2: CONFIDENTIAL
C3: Procédure:
C5: Date :
C6: Contractant·e :
C8: Adresse :
A10: 1. Prix fixes
A13: Poste | B13: Description | D13: Quantité | E13: Prix | F13: Total | G13: Explications
A14: Montant total | F14: =D14*E14 -> 0
A15: Jalon 1 | F15: =D15*E15 -> 0
A16: Jalon 2 | F16: =D16*E16 -> 0
A17: Jalon 3 | F17: =D17*E17 -> 0
A18: Jalon 4 | F18: =D18*E18 -> 0
A19: Jalon 5 | F19: =D19*E19 -> 0
A20: Jalon 6 | F20: =D20*E20 -> 0
A21: Jalon 7 | F21: =D21*E21 -> 0
A23: Sous-total | F23: =SUM(F14:F22) -> 0
A25: 2. Honoraires et autres coûts liés au marché
A26: La facturation des positions mentionnées ci-dessous s'effectue sur la base d'un justificatif du temps travaillé.
A28: 2.1 Taux d’honoraires journaliers par poste | B28: Nom | C28: Type de remboursement | D28: Nombre de jours d’expert·e·s | E28: Prix | F28: Total | G28: Explications
A29: Chef·fe d’équipe | B29: =IFERROR(VLOOKUP(A29,'Liste des expert·e·s clés'!$B$12:$D$35,3,0)&" "&VLOOKUP(A29,'Liste des expert·e·s clés'!$B$12:$D$35,2,0),"N.N.") -> N.N. | C29: Forfait / quantité | F29: =D29*E29 -> 0
A30: Expert·e clé 1/chef d'équipe Module 1 | B30: =IFERROR(VLOOKUP(A30,'Liste des expert·e·s clés'!$B$12:$D$35,3,0)&" "&VLOOKUP(A30,'Liste des expert·e·s clés'!$B$12:$D$35,2,0),"N.N.") | C30: Forfait / quantité | D30: 27 | F30: =D30*E30 -> 0 | G30: 5 jrs conception ; 2 jrs préparation; 12 jrs atelier ; 5 jrs conception du dispositif de suivi et 3 jrs rapportage . Total : 27 jrs .
A31: Expert·e clé 2/ chef d'équipe Module 2 | B31: =IFERROR(VLOOKUP(A31,'Liste des expert·e·s clés'!$B$12:$D$35,3,0)&" "&VLOOKUP(A31,'Liste des expert·e·s clés'!$B$12:$D$35,2,0),"N.N.") | C31: Forfait / quantité | D31: 27 | F31: =D31*E31 -> 0 | G31: 5 jrs conception ; 2 jrs préparation; 12 jrs atelier ; 5 jrs conception du dispositif de suivi et 3 jrs rapportage . Total : 27 jrs .
A32: Assistant 1 | B32: =IFERROR(VLOOKUP(A32,'Liste des expert·e·s clés'!$B$12:$D$35,3,0)&" "&VLOOKUP(A32,'Liste des expert·e·s clés'!$B$12:$D$35,2,0),"N.N.") | C32: Forfait / quantité | D32: 15 | F32: =D32*E32 -> 0 | G32: 12 ateliers de formation; 1 jours pour la préparation; 2 jours pour le rapportage. Total= 15 jrs
A33: Assistant 2 | B33: =IFERROR(VLOOKUP(A33,'Liste des expert·e·s clés'!$B$12:$D$35,3,0)&" "&VLOOKUP(A33,'Liste des expert·e·s clés'!$B$12:$D$35,2,0),"N.N.") | C33: Forfait / quantité | D33: 15 | F33: =D33*E33 -> 0 | G33: 12 ateliers de formation; 1 jours pour la préparation; 2 jours pour le rapportage. Total= 15 jrs
A34: Expert·e clé 5 (Lot 5) | B34: =IFERROR(VLOOKUP(A34,'Liste des expert·e·s clés'!$B$12:$D$35,3,0)&" "&VLOOKUP(A34,'Liste des expert·e·s clés'!$B$12:$D$35,2,0),"N.N.") -> N.N. | C34: Forfait / quantité | F34: =D34*E34 -> 0
A35: Pool d’expert·e·s 1 | B35: =IFERROR(VLOOKUP(A35,'Liste des expert·e·s clés'!$B$12:$D$35,3,0)&" "&VLOOKUP(A35,'Liste des expert·e·s clés'!$B$12:$D$35,2,0),"N.N.") -> N.N. | C35: Forfait / quantité | F35: =D35*E35 -> 0
A36: Pool d’expert·e·s 2 | B36: =IFERROR(VLOOKUP(A36,'Liste des expert·e·s clés'!$B$12:$D$35,3,0)&" "&VLOOKUP(A36,'Liste des expert·e·s clés'!$B$12:$D$35,2,0),"N.N.") -> N.N. | C36: Forfait / quantité | F36: =D36*E36 -> 0
A37: Pool d’expert·e·s 3 | B37: =IFERROR(VLOOKUP(A37,'Liste des expert·e·s clés'!$B$12:$D$35,3,0)&" "&VLOOKUP(A37,'Liste des expert·e·s clés'!$B$12:$D$35,2,0),"N.N.") -> N.N. | C37: Forfait / quantité | F37: =D37*E37 -> 0
A38: Pool d’expert·e·s 4 | B38: =IFERROR(VLOOKUP(A38,'Liste des expert·e·s clés'!$B$12:$D$35,3,0)&" "&VLOOKUP(A38,'Liste des expert·e·s clés'!$B$12:$D$35,2,0),"N.N.") -> N.N. | C38: Forfait / quantité | F38: =D38*E38 -> 0
A39: Pool d’expert·e·s 5 | B39: =IFERROR(VLOOKUP(A39,'Liste des expert·e·s clés'!$B$12:$D$35,3,0)&" "&VLOOKUP(A39,'Liste des expert·e·s clés'!$B$12:$D$35,2,0),"N.N.") -> N.N. | C39: Forfait / quantité | F39: =D39*E39 -> 0
A41: Sous-total | F41: =SUM(F29:F40) -> 0
A43: 2.2 Coûts liés au marché par poste | B43: Nom | C43: Clé de facturation | D43: Quantité | E43: Prix | F43: Total | G43: Explications
A44: Expert·e clé 1 | B44: =IFERROR(VLOOKUP(A44,'Liste des expert·e·s clés'!$B$12:$D$35,3,0)&" "&VLOOKUP(A44,'Liste des expert·e·s clés'!$B$12:$D$35,2,0),"N.N.") -> N.N. | C44: Forfait / quantité | F44: =D44*E44 -> 0
A45: Expert·e clé 2 | B45: =IFERROR(VLOOKUP(A45,'Liste des expert·e·s clés'!$B$12:$D$35,3,0)&" "&VLOOKUP(A45,'Liste des expert·e·s clés'!$B$12:$D$35,2,0),"N.N.") -> N.N. | C45: Forfait / quantité | F45: =D45*E45 -> 0
A46: Expert·e clé 3 | B46: =IFERROR(VLOOKUP(A46,'Liste des expert·e·s clés'!$B$12:$D$35,3,0)&" "&VLOOKUP(A46,'Liste des expert·e·s clés'!$B$12:$D$35,2,0),"N.N.") -> N.N. | C46: Forfait / quantité | F46: =D46*E46 -> 0
A47: Expert·e clé 4 | B47: =IFERROR(VLOOKUP(A47,'Liste des expert·e·s clés'!$B$12:$D$35,3,0)&" "&VLOOKUP(A47,'Liste des expert·e·s clés'!$B$12:$D$35,2,0),"N.N.") -> N.N. | C47: Forfait / quantité | F47: =D47*E47 -> 0
A48: Expert·e clé 5 | B48: =IFERROR(VLOOKUP(A48,'Liste des expert·e·s clés'!$B$12:$D$35,3,0)&" "&VLOOKUP(A48,'Liste des expert·e·s clés'!$B$12:$D$35,2,0),"N.N.") -> N.N. | C48: Forfait / quantité | F48: =D48*E48 -> 0
A49: Expert·e clé 6 | B49: =IFERROR(VLOOKUP(A49,'Liste des expert·e·s clés'!$B$12:$D$35,3,0)&" "&VLOOKUP(A49,'Liste des expert·e·s clés'!$B$12:$D$35,2,0),"N.N.") -> N.N. | C49: Forfait / quantité | F49: =D49*E49 -> 0
A50: Pool d’expert·e·s 1 | B50: =IFERROR(VLOOKUP(A50,'Liste des expert·e·s clés'!$B$12:$D$35,3,0)&" "&VLOOKUP(A50,'Liste des expert·e·s clés'!$B$12:$D$35,2,0),"N.N.") -> N.N. | C50: Forfait / quantité | F50: =D50*E50 -> 0
...

Sheet Bordereau prix lot 3
A1: Bordereau de prix - prestation
A2: CONFIDENTIAL
C3: Procédure:
C5: Date :
C6: Contractant·e :
C8: Adresse :
A10: 1. Prix fixes
A13: Poste | B13: Description | D13: Quantité | E13: Prix | F13: Total | G13: Explications
A14: Montant total | F14: =D14*E14 -> 0
A15: Jalon 1 | F15: =D15*E15 -> 0
A16: Jalon 2 | F16: =D16*E16 -> 0
A17: Jalon 3 | F17: =D17*E17 -> 0
A18: Jalon 4 | F18: =D18*E18 -> 0
A19: Jalon 5 | F19: =D19*E19 -> 0
A20: Jalon 6 | F20: =D20*E20 -> 0
A21: Jalon 7 | F21: =D21*E21 -> 0
A23: Sous-total | F23: =SUM(F14:F22) -> 0
A25: 2. Honoraires et autres coûts liés au marché
A26: La facturation des positions mentionnées ci-dessous s'effectue sur la base d'un justificatif du temps travaillé.
A28: 2.1 Taux d’honoraires journaliers par poste | B28: Nom | C28: Type de remboursement | D28: Nombre de jours d’expert·e·s | E28: Prix | F28: Total | G28: Explications
A29: Chef·fe d’équipe | B29: =IFERROR(VLOOKUP(A29,'Liste des expert·e·s clés'!$B$12:$D$35,3,0)&" "&VLOOKUP(A29,'Liste des expert·e·s clés'!$B$12:$D$35,2,0),"N.N.") -> N.N. | C29: Forfait / quantité | F29: =D29*E29 -> 0
A30: Expert·e clé 1/chef d'équipe Module 1 | B30: =IFERROR(VLOOKUP(A30,'Liste des expert·e·s clés'!$B$12:$D$35,3,0)&" "&VLOOKUP(A30,'Liste des expert·e·s clés'!$B$12:$D$35,2,0),"N.N.") | C30: Forfait / quantité | D30: 27 | F30: =D30*E30 -> 0 | G30: 5 jrs conception ; 2 jrs préparation; 12 jrs atelier ; 5 jrs conception du dispositif de suivi et 3 jrs rapportage . Total : 27 jrs .
A31: Expert·e clé 2/ chef d'équipe Module 2 | B31: =IFERROR(VLOOKUP(A31,'Liste des expert·e·s clés'!$B$12:$D$35,3,0)&" "&VLOOKUP(A31,'Liste des expert·e·s clés'!$B$12:$D$35,2,0),"N.N.") | C31: Forfait / quantité | D31: 27 | F31: =D31*E31 -> 0 | G31: 5 jrs conception ; 2 jrs préparation; 12 jrs atelier ; 5 jrs conception du dispositif de suivi et 3 jrs rapportage . Total : 27 jrs .
A32: Assistant 1 | B32: =IFERROR(VLOOKUP(A32,'Liste des expert·e·s clés'!$B$12:$D$35,3,0)&" "&VLOOKUP(A32,'Liste des expert·e·s clés'!$B$12:$D$35,2,0),"N.N.") | C32: Forfait / quantité | D32: 15 | F32: =D32*E32 -> 0 | G32: 12 ateliers de formation; 1 jours pour la préparation; 2 jours pour le rapportage. Total= 15 jrs
A33: Assistant 2 | B33: =IFERROR(VLOOKUP(A33,'Liste des expert·e·s clés'!$B$12:$D$35,3,0)&" "&VLOOKUP(A33,'Liste des expert·e·s clés'!$B$12:$D$35,2,0),"N.N.") | C33: Forfait / quantité | D33: 15 | F33: =D33*E33 -> 0 | G33: 12 ateliers de formation; 1 jours pour la préparation; 2 jours pour le rapportage. Total= 15 jrs
A34: Expert·e clé 5 (Lot 5) | B34: =IFERROR(VLOOKUP(A34,'Liste des expert·e·s clés'!$B$12:$D$35,3,0)&" "&VLOOKUP(A34,'Liste des expert·e·s clés'!$B$12:$D$35,2,0),"N.N.") -> N.N. | C34: Forfait / quantité | F34: =D34*E34 -> 0
A35: Pool d’expert·e·s 1 | B35: =IFERROR(VLOOKUP(A35,'Liste des expert·e·s clés'!$B$12:$D$35,3,0)&" "&VLOOKUP(A35,'Liste des expert·e·s clés'!$B$12:$D$35,2,0),"N.N.") -> N.N. | C35: Forfait / quantité | F35: =D35*E35 -> 0
A36: Pool d’expert·e·s 2 | B36: =IFERROR(VLOOKUP(A36,'Liste des expert·e·s clés'!$B$12:$D$35,3,0)&" "&VLOOKUP(A36,'Liste des expert·e·s clés'!$B$12:$D$35,2,0),"N.N.") -> N.N. | C36: Forfait / quantité | F36: =D36*E36 -> 0
A37: Pool d’expert·e·s 3 | B37: =IFERROR(VLOOKUP(A37,'Liste des expert·e·s clés'!$B$12:$D$35,3,0)&" "&VLOOKUP(A37,'Liste des expert·e·s clés'!$B$12:$D$35,2,0),"N.N.") -> N.N. | C37: Forfait / quantité | F37: =D37*E37 -> 0
A38: Pool d’expert·e·s 4 | B38: =IFERROR(VLOOKUP(A38,'Liste des expert·e·s clés'!$B$12:$D$35,3,0)&" "&VLOOKUP(A38,'Liste des expert·e·s clés'!$B$12:$D$35,2,0),"N.N.") -> N.N. | C38: Forfait / quantité | F38: =D38*E38 -> 0
A39: Pool d’expert·e·s 5 | B39: =IFERROR(VLOOKUP(A39,'Liste des expert·e·s clés'!$B$12:$D$35,3,0)&" "&VLOOKUP(A39,'Liste des expert·e·s clés'!$B$12:$D$35,2,0),"N.N.") -> N.N. | C39: Forfait / quantité | F39: =D39*E39 -> 0
A41: Sous-total | F41: =SUM(F29:F40) -> 0
A43: 2.2 Coûts liés au marché par poste | B43: Nom | C43: Clé de facturation | D43: Quantité | E43: Prix | F43: Total | G43: Explications
A44: Expert·e clé 1 | B44: =IFERROR(VLOOKUP(A44,'Liste des expert·e·s clés'!$B$12:$D$35,3,0)&" "&VLOOKUP(A44,'Liste des expert·e·s clés'!$B$12:$D$35,2,0),"N.N.") -> N.N. | C44: Forfait / quantité | F44: =D44*E44 -> 0
A45: Expert·e clé 2 | B45: =IFERROR(VLOOKUP(A45,'Liste des expert·e·s clés'!$B$12:$D$35,3,0)&" "&VLOOKUP(A45,'Liste des expert·e·s clés'!$B$12:$D$35,2,0),"N.N.") -> N.N. | C45: Forfait / quantité | F45: =D45*E45 -> 0
A46: Expert·e clé 3 | B46: =IFERROR(VLOOKUP(A46,'Liste des expert·e·s clés'!$B$12:$D$35,3,0)&" "&VLOOKUP(A46,'Liste des expert·e·s clés'!$B$12:$D$35,2,0),"N.N.") -> N.N. | C46: Forfait / quantité | F46: =D46*E46 -> 0
A47: Expert·e clé 4 | B47: =IFERROR(VLOOKUP(A47,'Liste des expert·e·s clés'!$B$12:$D$35,3,0)&" "&VLOOKUP(A47,'Liste des expert·e·s clés'!$B$12:$D$35,2,0),"N.N.") -> N.N. | C47: Forfait / quantité | F47: =D47*E47 -> 0
A48: Expert·e clé 5 | B48: =IFERROR(VLOOKUP(A48,'Liste des expert·e·s clés'!$B$12:$D$35,3,0)&" "&VLOOKUP(A48,'Liste des expert·e·s clés'!$B$12:$D$35,2,0),"N.N.") -> N.N. | C48: Forfait / quantité | F48: =D48*E48 -> 0
A49: Expert·e clé 6 | B49: =IFERROR(VLOOKUP(A49,'Liste des expert·e·s clés'!$B$12:$D$35,3,0)&" "&VLOOKUP(A49,'Liste des expert·e·s clés'!$B$12:$D$35,2,0),"N.N.") -> N.N. | C49: Forfait / quantité | F49: =D49*E49 -> 0
A50: Pool d’expert·e·s 1 | B50: =IFERROR(VLOOKUP(A50,'Liste des expert·e·s clés'!$B$12:$D$35,3,0)&" "&VLOOKUP(A50,'Liste des expert·e·s clés'!$B$12:$D$35,2,0),"N.N.") -> N.N. | C50: Forfait / quantité | F50: =D50*E50 -> 0
...

Sheet Liste des expert·e·s clés
B2: Liste des expert·e·s clés
B3: * Ne concerne que les expert·e·s pour lesquel·le·s un avenant au contrat est nécessaire
B4: ** En cas de changement d’expert·e clé, prière d’indiquer dans la colonne Explications la date de fin d’intervention de l’expert·e clé affecté·e jusque-là et la date de début d’intervention du·de la nouvel·le expert·e.
B5: CONFIDENTIAL
E6: Date : | F6: =IF('Bordereau prix lot 1'!D5="","",'Bordereau prix lot 1'!D5)
B11: Désignation dans le bordereau de prix | C11: Nom | D11: Prénom | E11: Date de naissance | F11: Domicile | G11: Explications relatives aux avenants
B12: Expert·e clé 1/chef d'équipe Module 1
B13: Expert·e clé 2/ chef d'équipe Module 2
B14: Assistant 1
B15: Assistant 2

Sheet Listen
B3: Erstattungsart
B4: Sélectionner
B5: Forfait / quantité
B6: Sur justificatif
B7: Sans objet
