Workbook
Name Abrechnungszeitraum: #REF!
Name gfdg: #REF!
Name KEK_Area: 'Overview sheet'!$A$3:$K$52
Name LERF6: 'Overview sheet'!$A$3:$K$52

Sheet GIZ_INFO
A1: Key | B1: Value
A2: Vorgangsart | B2: =IF('Overview sheet'!A1="Leistungserfassung","LERF",IF('Overview sheet'!A1="Anforderung einer Anzahlung ->Zeile 44","AZ",""))
A3: Sprache | B3: de
A4: Vertragsnummer | B4: ='Overview sheet'!$A$21 -> 0
A5: Referenz | B5: ='Overview sheet'!$H$12 -> 0
A6: Kostenbetrag | B6: =IF(B2="LERF",'Overview sheet'!F49,0) -> 0
A7: Zahlbetrag | B7: =IF(B2="AZ",'Overview sheet'!F49,0) -> 0

Sheet Overview sheet
A1: Request for advance payment ->Line 45
A2: CONFIDENTIAL
A3: Contractor (Please enter the currently valid address) | F3: Bank details
A4: Commercial Name / Full name for individuals (4 Parts ) | F4: Name of bank:
F5: Account no.:
A6: Address : | F6: IBAN:
A7: Email | F7: Beneficiary name:
A8: Mobile number | F8: Swift-Code
F9: Tax/VAT-ID No.:
A12: German Development Cooperation GIZ Office Moh'd Baseem Alkhammash Steet 13 P.O Box 926238 Amman 11190 Jordanien | F12: =IF(A1="Invoice","Invoice Number","Processing number") -> Processing number | K12: "Please submit this document in Excel format to: fin.processing_jo@giz.de Kindly note that the Service Entry Sheet, Timesheet, copy of invoices (proof of evidience) if applicable, should be sent at this stage. Do not submit the invoice. Once the Service Entry Sheet is reviewed and approved, you will receive an email with instructions to proceed with the invoice submission."
A16: Adressed to: | F16: Day of commencement of work:
F17: (Please specifiy with first request for advance payment)
A20: Contract number | C20: Project processing no./ Cost centre | E20: Expected contract term | H20: Performance period | K20: Date of issue
F21: until | I21: until
A22: Internal order/ PSP element
G24: Services/ costs incurred | H24: =IF(A1="Invoice","Invoice amount","Recognized by GIZ (Transfer from breakdown)") -> Recognized by GIZ (Transfer from breakdown) | J24: Comments by GIZ
B25: Price schedule | C25: Items of remuneration (net amounts) | E25: Currency: Click to access InforEuro (Currency Converter) | G25: JOD
B26: 1 | C26: Milestone no. xx / fixed lump-sum price | H26: =E26 -> 0
A27: 3.6.1 | B27: 2.1 | C27: Fee | E27: =Fee!E4 -> 0 | H27: =Fee!G4 -> 0
A28: 3.6.2 | B28: 2.2 | C28: Costs related to the contract in the country of assignment | E28: ='Contract related costs'!E4 -> 0 | H28: ='Contract related costs'!G4 -> 0
A29: 3.6.3 | B29: 2.3 | C29: National administrative staff | E29: ='Nat. adm. staff'!J3 -> 0 | H29: ='Nat. adm. staff'!L3 -> 0
A30: 3.6.4. | B30: 3 | C30: Travel expenses | E30: ='Travel expenses'!K11 -> 0 | H30: ='Travel expenses'!O11 -> 0
A31: 3.6.5.1 | B31: 4 | C31: Procurement of services and works | E31: =SUM('Procurement services work'!H5) -> 0 | H31: ='Procurement services work'!J5 -> 0
A32: 3.6.5.2 | B32: 4 | C32: Procurement of materials and equipment | E32: ='Procurement materials equipment'!I4 -> 0 | H32: ='Procurement materials equipment'!K4 -> 0
A33: 3.6.5.3 | B33: 4 | C33: Operating costs in country of assignment | E33: ='Operating costs'!F5 -> 0 | H33: ='Operating costs'!H5 -> 0
A34: 3.6.5.4 | B34: 4 | C34: Workshops/ Training | E34: ='Workshops Training'!J6 -> 0 | H34: ='Workshops Training'!L6 -> 0
A35: 3.6.5.5 | B35: 4 | C35: Local contributions | E35: ='Local Contr.'!H7 -> 0 | H35: ='Local Contr.'!J7 -> 0
A36: 3.6.5.6 | B36: 4 | C36: Other costs | E36: ='Other Costs'!E5 -> 0 | H36: ='Other Costs'!I5 -> 0
A37: 3.6.5.7 | B37: 4 | C37: Flexible remuneration item | E37: ='Flexible remuneration'!E14 -> 0 | H37: ='Flexible remuneration'!G14 -> 0
C38: =IF(A1="Service entry sheet","Expected invoice amount","Invoice amount") -> Invoice amount | E38: net | F38: =SUM(E26:G37) -> 0 | H38: =SUM(H26:I37) -> 0
C39: VAT base amount*
C40: + Sales tax amount | F40: =SUM(G39*E40) -> 0 | H40: =E40 -> 0
C41: =IF(A1="Service entry sheet","Expected invoice amount","Invoice amount") -> Invoice amount | E41: gross | F41: =F38+E40 -> 0 | H41: =(I39+H40)+(H38-I39) -> 0
C42: ./. Retention of costs as security | E42: net
C43: ./. VAT on costs retained (%) | F43: =SUM(F42*E43) -> 0 | H43: =SUM(H42*G43) -> 0
C44: =IF(A1="Service entry sheet","Expected subtotal","Subtotal") -> Subtotal | F44: =SUM(F41)-(F42)-(F43) -> 0 | H44: =SUM(H41)-(H42)-(H43) -> 0
C45: + Request for advance payment | E45: net
C46: + VAT (%) | F46: =SUM(F45*E46) -> 0 | H46: =SUM(H45*G46) -> 0
C47: ./. Deduction of advance payment | E47: net
C48: ./. VAT (%) | F48: =SUM(F47*E48) -> 0 | H48: =SUM(H47*G48) -> 0
...

Sheet Fee
A1: 3.6.1 Terms and Conditions: Fee
A4: Total | E4: =SUM(E7:E60) -> 0 | G4: =SUM(G7:G60) -> 0
A6: Position | B6: Name | C6: Fee days | D6: Fee (accounting unit) | E6: Total | F6: Comments by Contractor | G6: Recognized by GIZ | H6: Comments by GIZ
E7: =C7*D7 -> 0
E8: =C8*D8 -> 0
E9: =C9*D9 -> 0
E10: =C10*D10 -> 0
E11: =C11*D11 -> 0
E12: =C12*D12 -> 0
E13: =C13*D13 -> 0
E14: =C14*D14 -> 0
E15: =C15*D15 -> 0
E16: =C16*D16 -> 0
E17: =C17*D17 -> 0
E18: =C18*D18 -> 0
... E54: =C54*D54 -> 0
E55: =C55*D55 -> 0 | G55: =E55 -> 0
E56: =C56*D56 -> 0 | G56: =E56 -> 0
E57: =C57*D57 -> 0 | G57: =E57 -> 0
E58: =C58*D58 -> 0 | G58: =E58 -> 0
E59: =C59*D59 -> 0 | G59: =E59 -> 0
E60: =C60*D60 -> 0 | G60: =E60 -> 0

Sheet Contract related costs
A1: 3.6.2 Terms and Conditions: Costs related to the contract in the country of assignment
A4: Total | E4: =SUM(E7:E1000) -> 0 | G4: =SUM(G7:G1001) -> 0
A6: Position | B6: Name | C6: Days | D6: Price | E6: Total | F6: Comments by Contractor | G6: Recognized by GIZ | H6: Comments by GIZ
E7: =C7*D7 -> 0 | G7: =E7 -> 0
E8: =C8*D8 -> 0 | G8: =E8 -> 0
E9: =C9*D9 -> 0 | G9: =E9 -> 0
E10: =C10*D10 -> 0 | G10: =E10 -> 0
E11: =C11*D11 -> 0 | G11: =E11 -> 0
E12: =C12*D12 -> 0 | G12: =E12 -> 0
E13: =C13*D13 -> 0 | G13: =E13 -> 0
E14: =C14*D14 -> 0 | G14: =E14 -> 0
E15: =C15*D15 -> 0 | G15: =E15 -> 0
E16: =C16*D16 -> 0 | G16: =E16 -> 0
E17: =C17*D17 -> 0 | G17: =E17 -> 0
E18: =C18*D18 -> 0 | G18: =E18 -> 0
... E1000: =C1000*D1000 -> 0 | G1000: =E1000 -> 0

Sheet Nat. adm. staff
A1: 3.6.3 Terms and Conditions: National administrative staff (lump sum on submission of copy of employment contract)
A3: Total: | J3: =SUM(J6:J25) -> 0 | L3: =SUM(L6:L25) -> 0
A5: Voucher no. | B5: Name | C5: Position | D5: Was the employment contract already submitted to GIZ? bereits eingreicht? | E5: Beginning during the accounting period MM-DD-YYYY | F5: End during the accounting period MM-DD-YYYY | G5: Costs /Month | H5: Month | I5: Days | J5: Summe | K5: Comments by Contractor | L5: Recognized by GIZ | M5: Comments by GIZ
A6: 1 | J6: =(H6+(I6/30))*G6 -> 0 | L6: =J6 -> 0 | N6: Pauschal
A7: 2 | J7: =(H7+(I7/30))*G7 -> 0 | L7: =J7 -> 0
A8: 3 | J8: =(H8+(I8/30))*G8 -> 0 | L8: =J8 -> 0
A9: 4 | J9: =(H9+(I9/30))*G9 -> 0 | L9: =J9 -> 0
A10: 5 | J10: =(H10+(I10/30))*G10 -> 0 | L10: =J10 -> 0
A11: 6 | J11: =(H11+(I11/30))*G11 -> 0 | L11: =J11 -> 0
A12: 7 | J12: =(H12+(I12/30))*G12 -> 0 | L12: =J12 -> 0
A13: 8 | J13: =(H13+(I13/30))*G13 -> 0 | L13: =J13 -> 0
A14: 9 | J14: =(H14+(I14/30))*G14 -> 0 | L14: =J14 -> 0
A15: 10 | J15: =(H15+(I15/30))*G15 -> 0 | L15: =J15 -> 0
A16: 11 | J16: =(H16+(I16/30))*G16 -> 0 | L16: =J16 -> 0 | N16: Pauschal
A17: 12 | J17: =(H17+(I17/30))*G17 -> 0 | L17: =J17 -> 0
A18: 13 | J18: =(H18+(I18/30))*G18 -> 0 | L18: =J18 -> 0
A19: 14 | J19: =(H19+(I19/30))*G19 -> 0 | L19: =J19 -> 0
A20: 15 | J20: =(H20+(I20/30))*G20 -> 0 | L20: =J20 -> 0
A21: 16 | J21: =(H21+(I21/30))*G21 -> 0 | L21: =J21 -> 0
A22: 17 | J22: =(H22+(I22/30))*G22 -> 0 | L22: =J22 -> 0
A23: 18 | J23: =(H23+(I23/30))*G23 -> 0 | L23: =J23 -> 0
A24: 19 | J24: =(H24+(I24/30))*G24 -> 0 | L24: =J24 -> 0
A25: 20 | J25: =(H25+(I25/30))*G25 -> 0 | L25: =J25 -> 0

Sheet Travel expenses
A1: 3.6.4 Terms and Conditions: Travel expenses
C6: Total Transfer and visa acquisition costs | K6: =SUMIF(C14:C1001,"Transfer and visa acquisition costs",K14:K1001) -> 0 | O6: =SUMIF($C$14:$C$1001,"Transfer and visa acquisition costs",$O$14:$O$1001) -> 0
C7: Total Per-diem | K7: =SUMIF(C14:C1001,"Per-diem",K14:K1001) -> 0 | O7: =SUMIF($C$14:$C$1001,"Per-diem",$O$14:$O$1001) -> 0
C8: Total Overnight accommodation allowance | K8: =SUMIF(C14:C1001,"Overnight accommodation allowance",K14:K1001) -> 0 | O8: =SUMIF($C$14:$C$1001,"Overnight accommodation allowance",$O$14:$O$1001) -> 0
C9: Total CO2 compensation | K9: =SUMIF(C14:C1001,"CO2 compensation",K14:K1001) -> 0 | O9: =SUMIF($C$14:$C$1001,"CO2 compensation",$O$14:$O$1001) -> 0
C10: Total Other travel costs*** | K10: =SUMIF(C14:C1001,"Other travel costs",K14:K1001) -> 0 | O10: =SUMIF($C$14:$C$1001,"Other travel costs",$O$14:$O$1001) -> 0
C11: Total | K11: =SUM(K6:K10) -> 0 | O11: =SUM(O6:O10) -> 0
A13: Voucher no. | B13: Internal voucher no. | C13: Position | D13: Sub-category* | E13: Type of reimbursement | F13: Name | G13: Quantity | H13: Amount (from voucher or lump sum) | I13: Currency | J13: Rate** | K13: Total | L13: Date of Arrival (MM-DD-YYYY) | M13: Date of Departure (MM-DD-YYYY) | N13: Comments by Contractor | O13: Recognized by GIZ | P13: Comments by GIZ
A14: 1 | K14: =G14*H14*J14 -> 0
A15: 2 | K15: =G15*H15*J15 -> 0
A16: 3 | K16: =G16*H16*J16 -> 0
A17: 4 | K17: =G17*H17*J17 -> 0
A18: 5 | K18: =G18*H18*J18 -> 0
A19: 6 | K19: =G19*H19*J19 -> 0
A20: 7 | K20: =G20*H20*J20 -> 0
A21: 8 | K21: =G21*H21*J21 -> 0
A22: 9 | K22: =G22*H22*J22 -> 0
A23: 10 | K23: =G23*H23*J23 -> 0
A24: 11 | K24: =G24*H24*J24 -> 0
A25: 12 | K25: =G25*H25*J25 -> 0
... A67: 54 | K67: =G67*H67*J67 -> 0
A68: 55 | K68: =G68*H68*J68 -> 0 | O68: =K68 -> 0
A69: 56 | K69: =G69*H69*J69 -> 0 | O69: =K69 -> 0
A70: 57 | K70: =G70*H70*J70 -> 0 | O70: =K70 -> 0
A71: 58 | K71: =G71*H71*J71 -> 0 | O71: =K71 -> 0
A72: 59 | K72: =G72*H72*J72 -> 0 | O72: =K72 -> 0
A73: 60 | K73: =G73*H73*J73 -> 0 | O73: =K73 -> 0
A74: 61 | K74: =G74*H74*J74 -> 0 | O74: =K74 -> 0
A75: 62 | K75: =G75*H75*J75 -> 0 | O75: =K75 -> 0
A76: 63 | K76: =G76*H76*J76 -> 0 | O76: =K76 -> 0
A77: 64 | K77: =G77*H77*J77 -> 0 | O77: =K77 -> 0
A78: 65 | K78: =G78*H78*J78 -> 0 | O78: =K78 -> 0
A79: 66 | K79: =G79*H79*J79 -> 0 | O79: =K79 -> 0
... A1001: 988 | K1001: =G1001*H1001*J1001 -> 0 | O1001: =K1001 -> 0

Sheet Procurement services work
A1: 3.6.5.1 Terms and Conditions: Procurement of services and works (only against evidence)
A5: Total: | H5: =SUM(H8:H1001) -> 0 | J5: =SUM(J8:J1001) -> 0
A7: Voucher no. | B7: Internal voucher no. | C7: Name of Sub-Contractor | D7: Purpose of the assignment | E7: Voucher amount | F7: Currency | G7: Rate** | H7: Total | I7: Comments by Contractor | J7: Recognized by GIZ | K7: Comments by GIZ
A8: 1 | H8: =E8*G8 -> 0
A9: 2 | H9: =E9*G9 -> 0
A10: 3 | H10: =E10*G10 -> 0
A11: 4 | H11: =E11*G11 -> 0
A12: 5 | H12: =E12*G12 -> 0
A13: 6 | H13: =E13*G13 -> 0
A14: 7 | H14: =E14*G14 -> 0
A15: 8 | H15: =E15*G15 -> 0
A16: 9 | H16: =E16*G16 -> 0
A17: 10 | H17: =E17*G17 -> 0
A18: 11 | H18: =E18*G18 -> 0
A19: 12 | H19: =E19*G19 -> 0
... A54: 47 | H54: =E54*G54 -> 0
A55: 48 | H55: =E55*G55 -> 0 | J55: =H55 -> 0
A56: 49 | H56: =E56*G56 -> 0 | J56: =H56 -> 0
A57: 50 | H57: =E57*G57 -> 0 | J57: =H57 -> 0
A58: 51 | H58: =E58*G58 -> 0 | J58: =H58 -> 0
A59: 52 | H59: =E59*G59 -> 0 | J59: =H59 -> 0
A60: 53 | H60: =E60*G60 -> 0 | J60: =H60 -> 0
A61: 54 | H61: =E61*G61 -> 0 | J61: =H61 -> 0
A62: 55 | H62: =E62*G62 -> 0 | J62: =H62 -> 0
A63: 56 | H63: =E63*G63 -> 0 | J63: =H63 -> 0
A64: 57 | H64: =E64*G64 -> 0 | J64: =H64 -> 0
A65: 58 | H65: =E65*G65 -> 0 | J65: =H65 -> 0
A66: 59 | H66: =E66*G66 -> 0 | J66: =H66 -> 0
... A1001: 994 | H1001: =E1001*G1001 -> 0 | J1001: =H1001 -> 0

Sheet Procurement materials equipment
A1: 3.6.5.2 Terms and Conditions: Procurement
B2: of materials and equipment (only against evidence)
A4: Total: | I4: =SUM(I7:I61) -> 0 | K4: =SUM(K7:K61) -> 0
A6: Voucher no. | B6: Internal voucher no. | C6: Procured Equipment | D6: Supplier | E6: Date of voucher MM-DD-YYYY | F6: Amount of voucher (des Belegs) | G6: Currency | H6: Rate** | I6: Total | J6: Comments by Contractor | K6: Recognized by GIZ | L6: Comments by GIZ
A7: 1 | I7: =F7*H7 -> 0
A8: 2 | I8: =F8*H8 -> 0
A9: 3 | I9: =F9*H9 -> 0
A10: 4 | I10: =F10*H10 -> 0
A11: 5 | I11: =F11*H11 -> 0
A12: 6 | I12: =F12*H12 -> 0
A13: 7 | I13: =F13*H13 -> 0
A14: 8 | I14: =F14*H14 -> 0
A15: 9 | I15: =F15*H15 -> 0
A16: 10 | I16: =F16*H16 -> 0
A17: 11 | I17: =F17*H17 -> 0
A18: 12 | I18: =F18*H18 -> 0
... A55: 49 | I55: =F55*H55 -> 0
A56: 50 | I56: =F56*H56 -> 0 | K56: =I56 -> 0
A57: 51 | I57: =F57*H57 -> 0 | K57: =I57 -> 0
A58: 52 | I58: =F58*H58 -> 0 | K58: =I58 -> 0
A59: 53 | I59: =F59*H59 -> 0 | K59: =I59 -> 0
A60: 54 | I60: =F60*H60 -> 0 | K60: =I60 -> 0
A61: 55 | I61: =F61*H61 -> 0 | K61: =I61 -> 0

Sheet Operating costs
A1: 3.6.5.3. Terms and Conditions: Operating costs in country of assignment
A3: Office and operating costs
A5: Total: | F5: =SUM(F8:F1001) -> 0 | H5: =SUM(H8:H1001) -> 0
A7: No. | B7: Type of operating costs | C7: Type of reimbursement | D7: Amount | E7: Quantity | F7: Total | G7: Comments by Contractor | H7: Recognized by GIZ | I7: Comments by GIZ
A8: 1 | F8: =D8*E8 -> 0 | H8: =F8 -> 0
A9: 2 | F9: =SUM(D9*E9) -> 0 | H9: =F9 -> 0
A10: 3 | F10: =SUM(D10*E10) -> 0 | H10: =F10 -> 0
A11: 4 | F11: =SUM(D11*E11) -> 0 | H11: =F11 -> 0
A12: 5 | F12: =SUM(D12*E12) -> 0 | H12: =F12 -> 0
A13: 6 | F13: =SUM(D13*E13) -> 0 | H13: =F13 -> 0
A14: 7 | F14: =SUM(D14*E14) -> 0 | H14: =F14 -> 0
A15: 8 | F15: =SUM(D15*E15) -> 0 | H15: =F15 -> 0
A16: 9 | F16: =SUM(D16*E16) -> 0 | H16: =F16 -> 0
A17: 10 | F17: =SUM(D17*E17) -> 0 | H17: =F17 -> 0
A18: 11 | F18: =SUM(D18*E18) -> 0 | H18: =F18 -> 0
A19: 12 | F19: =SUM(D19*E19) -> 0 | H19: =F19 -> 0
A20: 13 | F20: =SUM(D20*E20) -> 0 | H20: =F20 -> 0
... A1001: 994 | F1001: =SUM(D1001*E1001) -> 0 | H1001: =F1001 -> 0

Sheet Workshops Training
A1: 3.6.5.4. Terms and Conditions: Workshops, Trainings - Invoicing per Workshop (only against evidence)
A6: Total: | J6: =SUM(J9:J1001) -> 0 | L6: =SUM(L9:L1001) -> 0
A8: Voucher no. | B8: Internal voucher no. | C8: Type of event | D8: Place of event | E8: Content of the document (in English) | F8: Date of voucher MM-DD-YYYY | G8: Amount of voucher | H8: Currency | I8: Rate** | J8: Total | K8: Comments by Contractor | L8: Recognized by GIZ | M8: Comments by GIZ
A9: 1 | J9: =G9*I9 -> 0
A10: 2 | J10: =G10*I10 -> 0
A11: 3 | J11: =G11*I11 -> 0
A12: 4 | J12: =G12*I12 -> 0
A13: 5 | J13: =G13*I13 -> 0
A14: 6 | J14: =G14*I14 -> 0
A15: 7 | J15: =G15*I15 -> 0
A16: 8 | J16: =G16*I16 -> 0
A17: 9 | J17: =G17*I17 -> 0
A18: 10 | J18: =G18*I18 -> 0
A19: 11 | J19: =G19*I19 -> 0
A20: 12 | J20: =G20*I20 -> 0
... A148: 140 | J148: =G148*I148 -> 0
A149: 141 | J149: =G149*I149 -> 0 | L149: =J149 -> 0
A150: 142 | J150: =G150*I150 -> 0 | L150: =J150 -> 0
A151: 143 | J151: =G151*I151 -> 0 | L151: =J151 -> 0
A152: 144 | J152: =G152*I152 -> 0 | L152: =J152 -> 0
A153: 145 | J153: =G153*I153 -> 0 | L153: =J153 -> 0
A154: 146 | J154: =G154*I154 -> 0 | L154: =J154 -> 0
A155: 147 | J155: =G155*I155 -> 0 | L155: =J155 -> 0
A156: 148 | J156: =G156*I156 -> 0 | L156: =J156 -> 0
A157: 149 | J157: =G157*I157 -> 0 | L157: =J157 -> 0
A158: 150 | J158: =G158*I158 -> 0 | L158: =J158 -> 0
A159: 151 | J159: =G159*I159 -> 0 | L159: =J159 -> 0
A160: 152 | J160: =G160*I160 -> 0 | L160: =J160 -> 0
... A1001: 993 | J1001: =G1001*I1001 -> 0 | L1001: =J1001 -> 0

Sheet Local Contr.
A1: 3.6.5.5 Terms and Conditions: Local Contributions (only against evidence)
A7: Total: | H7: =SUM(H10:H1002) -> 0 | J7: =SUM(J10:J1002) -> 0
A9: Voucher no. | B9: Internal voucher no. | C9: Recipient | D9: Contract number | E9: Voucher amount | F9: Currency | G9: Rate** | H9: Contribution | I9: Comments by Contractor* | J9: Recognized by GIZ | K9: Comments by GIZ
A10: 1 | H10: =E10*G10 -> 0 | J10: =H10 -> 0
A11: 2 | H11: =E11*G11 -> 0 | J11: =H11 -> 0
A12: 3 | H12: =E12*G12 -> 0 | J12: =H12 -> 0
A13: 4 | H13: =E13*G13 -> 0 | J13: =H13 -> 0
A14: 5 | H14: =E14*G14 -> 0 | J14: =H14 -> 0
A15: 6 | H15: =E15*G15 -> 0 | J15: =H15 -> 0
A16: 7 | H16: =E16*G16 -> 0 | J16: =H16 -> 0
A17: 8 | H17: =E17*G17 -> 0 | J17: =H17 -> 0
A18: 9 | H18: =E18*G18 -> 0 | J18: =H18 -> 0
A19: 10 | H19: =E19*G19 -> 0 | J19: =H19 -> 0
A20: 11 | H20: =E20*G20 -> 0 | J20: =H20 -> 0
A21: 12 | H21: =E21*G21 -> 0 | J21: =H21 -> 0
... A1002: 993 | H1002: =E1002*G1002 -> 0 | J1002: =H1002 -> 0

Sheet Other Costs
A1: 3.6.5.6 Terms and Conditions: Other Costs
A3: Total Lump sums | E3: =SUM(E9:E40) -> 0 | I3: =SUM(I9:I40) -> 0
A4: Total Against evidence | E4: =SUM(G46:G1001) -> 0 | I4: =SUM(I46:I1001) -> 0
A5: Total | E5: =E3+E4 -> 0 | I5: =I3+I4 -> 0
A7: Lump sums
A8: No. | B8: Type of other costs | C8: Lump sum amount | D8: Quantity | E8: Total | F8: Comments by Contractor | I8: Recognized by GIZ | J8: Comments by GIZ
A9: 1 | E9: =SUM(D9*C9) -> 0
A10: 2 | E10: =SUM(D10*C10) -> 0
A11: 3 | E11: =SUM(D11*C11) -> 0
A12: 4 | E12: =SUM(D12*C12) -> 0
A13: 5 | E13: =SUM(D13*C13) -> 0
A14: 6 | E14: =SUM(D14*C14) -> 0
A15: 7 | E15: =SUM(D15*C15) -> 0
A16: 8 | E16: =SUM(D16*C16) -> 0
A17: 9 | E17: =SUM(D17*C17) -> 0
A18: 10 | E18: =SUM(D18*C18) -> 0
A19: 11 | E19: =SUM(D19*C19) -> 0
A20: 12 | E20: =SUM(D20*C20) -> 0
... A40: 32 | E40: =SUM(D40*C40) -> 0
A44: Against evidence
A45: Voucher no. | B45: Content of voucher | C45: Date of voucher MM-DD-YYYY | D45: Voucher amount | E45: Currency | F45: Rate** | G45: Total | H45: Comments by Contractor | I45: Recognized by GIZ | J45: Comments by GIZ
A46: 1 | G46: =D46*F46 -> 0
A47: 2 | G47: =D47*F47 -> 0
A48: 3 | G48: =D48*F48 -> 0
A49: 4 | G49: =D49*F49 -> 0
A50: 5 | G50: =D50*F50 -> 0
A51: 6 | G51: =D51*F51 -> 0
A52: 7 | G52: =D52*F52 -> 0
A53: 8 | G53: =D53*F53 -> 0
A54: 9 | G54: =D54*F54 -> 0
A55: 10 | G55: =D55*F55 -> 0
A56: 11 | G56: =D56*F56 -> 0
A57: 12 | G57: =D57*F57 -> 0
... A469: 424 | G469: =D469*F469 -> 0
A470: 425 | G470: =D470*F470 -> 0 | I470: =G470 -> 0
A471: 426 | G471: =D471*F471 -> 0 | I471: =G471 -> 0
A472: 427 | G472: =D472*F472 -> 0 | I472: =G472 -> 0
A473: 428 | G473: =D473*F473 -> 0 | I473: =G473 -> 0
A474: 429 | G474: =D474*F474 -> 0 | I474: =G474 -> 0
A475: 430 | G475: =D475*F475 -> 0 | I475: =G475 -> 0
...

Sheet Flexible remuneration
A1: 3.6.5.7 Terms and Conditions: Flexible remuneration (only with written approval of project commission manager)
A3: No. | B3: Exceeded remunertaion item | C3: Reason | E3: Exceeded value | F3: Comments by Contractor | G3: Recognized by GIZ | H3: Comments by GIZ
A4: 1 | E4: 0
A5: 2 | E5: 0
A6: 3 | E6: 0
A7: 4 | E7: 0
A8: 5 | E8: 0
A9: 6 | E9: 0
A10: 7 | E10: 0
A11: 8 | E11: 0
A12: 9 | E12: 0
A13: 10 | E13: 0
C14: Flexible remuneration claimed | E14: =SUM(E4:E13) -> 0 | G14: =SUM(G4:G13) -> 0
